0.34999999999998693
0.00000000000000000
0.00000000000000000
-0.34999999999998732
327571.48187776998000000
3249515.58523157010000000
