0.34999999999998704
0.00000000000000000
0.00000000000000000
-0.34999999999998743
328137.16050291999000000
3249695.33303688980000000
