0.35000000000000170
0.00000000000000000
0.00000000000000000
-0.35000000000002518
328066.42864735000000000
3246864.39065720980000000
