0.34999999999998832
0.00000000000000000
0.00000000000000000
-0.34999999999998738
327217.95419937000000000
3246077.00346523010000000
