0.35000000000000170
0.00000000000000000
0.00000000000000000
-0.34999999999999998
326304.71339624003000000
3245418.83886876000000000
