0.35000000000000342
0.00000000000000000
0.00000000000000000
-0.35000000000001263
325456.72528573999000000
3244736.98781409020000000
