0.34999999999999831
0.00000000000000000
0.00000000000000000
-0.34999999999999998
324330.75856418000000000
3244332.27568855000000000
