0.34999999999998999
0.00000000000000000
0.00000000000000000
-0.34999999999998738
323463.70017080999000000
3243615.22308185000000000
