0.34999999999998505
0.00000000000000000
0.00000000000000000
-0.34999999999998738
322593.72398339002000000
3242914.18323617990000000
