0.34999999999999665
0.00000000000000000
0.00000000000000000
-0.35000000000002518
321786.88524550002000000
3242092.78856856000000000
