0.35000000000000170
0.00000000000000000
0.00000000000000000
-0.35000000000002529
320828.00673685002000000
3241565.52087097010000000
