0.35000000000000170
0.00000000000000000
0.00000000000000000
-0.34999999999999998
319820.20530092000000000
3241062.82811625020000000
