0.34999999999997627
0.00000000000000000
0.00000000000000000
-0.34999999999997472
318846.33293459000000000
3240430.88253295000000000
