0.34999999999999665
0.00000000000000000
0.00000000000000000
-0.34999999999999998
317871.20805984997000000
3239900.04590736000000000
