0.35000000000000336
0.00000000000000000
0.00000000000000000
-0.35000000000001263
317041.90733697999000000
3239108.17286810980000000
