0.34999999999999831
0.00000000000000000
0.00000000000000000
-0.35000000000002507
315054.57539789000000000
3238097.94862960980000000
