0.34999999999997661
0.00000000000000000
0.00000000000000000
-0.34999999999997472
314260.72397672001000000
3237206.64350186010000000
