0.34999999999999831
0.00000000000000000
0.00000000000000000
-0.34999999999999998
313344.88142399001000000
3236596.09399825990000000
