0.35000000000000336
0.00000000000000000
0.00000000000000000
-0.34999999999999998
312353.87423810997000000
3236025.72307462010000000
