0.34999999999999998
0.00000000000000000
0.00000000000000000
-0.35000000000001258
311465.20048941998000000
3235356.28812790010000000
