0.34999999999999998
0.00000000000000000
0.00000000000000000
-0.35000000000002524
310583.61023286998000000
3234669.90922959990000000
