0.35000000000000170
0.00000000000000000
0.00000000000000000
-0.34999999999999998
309659.59229562001000000
3234062.63471822020000000
