0.34999999999999154
0.00000000000000000
0.00000000000000000
-0.34999999999998738
308664.34959035000000000
3233516.50244223980000000
