0.34999999999998493
0.00000000000000000
0.00000000000000000
-0.34999999999998743
307747.81498666998000000
3232890.36686831010000000
