0.34999999999999998
0.00000000000000000
0.00000000000000000
-0.35000000000002524
306866.53020048997000000
3232197.28472559990000000
