0.34999999999999998
0.00000000000000000
0.00000000000000000
-0.35000000000002518
305841.01535910001000000
3231664.27293852020000000
