0.34999999999999665
0.00000000000000000
0.00000000000000000
-0.35000000000001263
305041.76761797001000000
3230903.71593448990000000
