0.35000000000000203
0.00000000000000000
0.00000000000000000
-0.35000000000001436
354346.33070731000000000
3266457.42884860980000000
