0.34999999999999826
0.00000000000000000
0.00000000000000000
-0.34999999999999998
354111.35667928000000000
3268521.93119580020000000
