0.34999999999997194
0.00000000000000000
0.00000000000000000
-0.34999999999997106
353794.83543502999000000
3268978.90525321990000000
