0.34999999999996811
0.00000000000000000
0.00000000000000000
-0.34999999999996950
353620.66786458000000000
3271639.27135133000000000
