0.34999999999997339
0.00000000000000000
0.00000000000000000
-0.34999999999996939
354226.81843786000000000
3270692.28721449990000000
