0.34999999999997666
0.00000000000000000
0.00000000000000000
-0.34999999999998138
363839.53002003999000000
3275964.59681796000000000
