0.34999999999999809
0.00000000000000000
0.00000000000000000
-0.35000000000001846
363759.75519106002000000
3275543.56110954010000000
