0.34999999999999809
0.00000000000000000
0.00000000000000000
-0.35000000000003606
363538.81312170997000000
3274705.51292621020000000
