0.34999999999996018
0.00000000000000000
0.00000000000000000
-0.34999999999996456
363306.53236140998000000
3273865.04871683010000000
