0.34999999999997938
0.00000000000000000
0.00000000000000000
-0.34999999999998260
363090.59537721000000000
3273023.49032323990000000
