0.35000000000000370
0.00000000000000000
0.00000000000000000
-0.34999999999999998
362828.54623524001000000
3272193.31703448990000000
