0.34999999999999815
0.00000000000000000
0.00000000000000000
-0.35000000000001663
362423.03030930000000000
3271423.86533547010000000
