0.34999999999996328
0.00000000000000000
0.00000000000000000
-0.34999999999996684
362131.43108410999000000
3270604.42207673010000000
