0.35000000000000181
0.00000000000000000
0.00000000000000000
-0.35000000000003317
361821.86745646998000000
3269800.65631119020000000
