0.34999999999998344
0.00000000000000000
0.00000000000000000
-0.34999999999998332
361495.62170323997000000
3268987.65862557990000000
