0.34999999999999815
0.00000000000000000
0.00000000000000000
-0.34999999999999998
361206.37360137003000000
3268167.67526842000000000
