0.35000000000000187
0.00000000000000000
0.00000000000000000
-0.34999999999999998
360980.17677214998000000
3267309.43071379980000000
