0.34999999999996462
0.00000000000000000
0.00000000000000000
-0.34999999999996578
363113.59790123999000000
3269868.02806039990000000
