0.34999999999999998
0.00000000000000000
0.00000000000000000
-0.34999999999999998
363362.07205710001000000
3270746.46718346000000000
