0.34999999999997033
0.00000000000000000
0.00000000000000000
-0.34999999999996612
363567.78806287999000000
3271648.88767634980000000
