0.35000000000000187
0.00000000000000000
0.00000000000000000
-0.35000000000003417
363813.12373216997000000
3272533.15808619000000000
