0.34999999999998488
0.00000000000000000
0.00000000000000000
-0.34999999999998227
364338.05296982999000000
3273288.16302060990000000
