0.34999999999999998
0.00000000000000000
0.00000000000000000
-0.35000000000001785
364330.23568704003000000
3274239.47680416000000000
